BEGIN:VCALENDAR
VERSION:2.0
PRODID:-//JuKuZ Event AG - ECPv6.15.12.2//NONSGML v1.0//EN
CALSCALE:GREGORIAN
METHOD:PUBLISH
X-ORIGINAL-URL:https://jukuz-event-ag.de
X-WR-CALDESC:Veranstaltungen für JuKuZ Event AG
REFRESH-INTERVAL;VALUE=DURATION:PT1H
X-Robots-Tag:noindex
X-PUBLISHED-TTL:PT1H
BEGIN:VTIMEZONE
TZID:Europe/Berlin
BEGIN:DAYLIGHT
TZOFFSETFROM:+0100
TZOFFSETTO:+0200
TZNAME:CEST
DTSTART:20240331T010000
END:DAYLIGHT
BEGIN:STANDARD
TZOFFSETFROM:+0200
TZOFFSETTO:+0100
TZNAME:CET
DTSTART:20241027T010000
END:STANDARD
BEGIN:DAYLIGHT
TZOFFSETFROM:+0100
TZOFFSETTO:+0200
TZNAME:CEST
DTSTART:20250330T010000
END:DAYLIGHT
BEGIN:STANDARD
TZOFFSETFROM:+0200
TZOFFSETTO:+0100
TZNAME:CET
DTSTART:20251026T010000
END:STANDARD
BEGIN:DAYLIGHT
TZOFFSETFROM:+0100
TZOFFSETTO:+0200
TZNAME:CEST
DTSTART:20260329T010000
END:DAYLIGHT
BEGIN:STANDARD
TZOFFSETFROM:+0200
TZOFFSETTO:+0100
TZNAME:CET
DTSTART:20261025T010000
END:STANDARD
BEGIN:DAYLIGHT
TZOFFSETFROM:+0100
TZOFFSETTO:+0200
TZNAME:CEST
DTSTART:20270328T010000
END:DAYLIGHT
BEGIN:STANDARD
TZOFFSETFROM:+0200
TZOFFSETTO:+0100
TZNAME:CET
DTSTART:20271031T010000
END:STANDARD
END:VTIMEZONE
BEGIN:VEVENT
DTSTART;TZID=Europe/Berlin:20260329T150000
DTEND;TZID=Europe/Berlin:20260329T180000
DTSTAMP:20260420T063027
CREATED:20260204T212036Z
LAST-MODIFIED:20260204T212037Z
UID:126-1774796400-1774807200@jukuz-event-ag.de
SUMMARY:Musiker-Flohmarkt 2026
DESCRIPTION:Die Event AG des JuKuZ Mörfelden lädt nun erneut zum Musiker-Flohmarkt ein. \n\n\n\nWir möchten euch viel mehr die Möglichkeit bieten\, in eurem Proberaum und / oder eurem Studio wieder etwas Platz zu schaffen und das ein oder andere Stück zu veräußern.Oder um noch mehr zu sammeln?Was hat sich alles in den letzten Jahren und Jahrzehnten angesammelt? Und muss jetzt weg? \n\n\n\nAngeboten werden kann alles\, was der Musiker zum Musizieren benötigt. Dazu zählen alle Arten an Musikinstrumenten (bspw. Gitarren\, Keyboards\, Schlagzeuge und Zubehör\, Geigen\, Flöten etc.) sowie Verstärker\, Boxen\, Combos\, PA’s\, Lichtanlagen und –effekte\, Bodentreter\, 19“-Geräte und was man sich sonst so alles vorstellen kann.Was gibt es nicht? \n\n\n\nTonträger sollen nicht zum Verkauf angeboten werden.Und ganz wichtig:Musiker selbst dürfen nicht veräußert werden 🙂Und sonst? \n\n\n\nWir werden schauen\, dass es noch einen kleinen Kaffee- & Kuchenverkauf gibt.Wer also nur zum Schauen und Flanieren vorbeikommen\, oder in der Sitzecke ein gemütliches Schwätzchen halten möchte\, ist uns ebenso herzlich willkommen. \n\n\n\nStand-Anmeldung und weitere Informationen gibt es demnächst hier: https://flohmarkt.jukuz-event-ag.de
URL:https://jukuz-event-ag.de/event/musiker-flohmarkt-2026/
LOCATION:JuKuZ Mörfelden\, Am Bahndamm 12\, Mörfelden-Walldorf\, 64546\, Germany
CATEGORIES:Veranstaltung
ATTACH;FMTTYPE=image/jpeg:https://jukuz-event-ag.de/wp-content/uploads/2026/02/2026_03_29_JuKuZ-Musiker-Flohmark_800t.jpg
END:VEVENT
BEGIN:VEVENT
DTSTART;TZID=Europe/Berlin:20260228T200000
DTEND;TZID=Europe/Berlin:20260228T235900
DTSTAMP:20260420T063027
CREATED:20251009T222431Z
LAST-MODIFIED:20260204T211416Z
UID:98-1772308800-1772323140@jukuz-event-ag.de
SUMMARY:Mörfelden Rockt 2025
DESCRIPTION:Im Dezember 2025 Februar 2026* gibt es wieder etwas auf die Ohren. Die Event AG des Jugend- und Kulturzentrums Mörfelden bringt beim Mini-Festival „Mörfelden Rockt!“ ein breites Spektrum an Musik auf die Bühne. \n*  Der Termin verschiebt sich auf kommendes Jahr …. \nBands\nAmazing Fools\nWas kommt dabei heraus\, wenn drei Musiker\, die in ihrem Leben wahrscheinlich schon ziemlich jeden Hit gespielt haben\, der in einem Club oder im Festzelt für gute Stimmung sorgt\, auf einen Sänger und Komponisten mit reichlich kreativem Songmaterial treffen.Tolle Musik natürlich! Vorhang auf also für die Amazing Fools. \nMit rockig-romantischen Songs aus eigener Feder garniert mit einigen Covers\, die man nicht alle Tage hört\, sorgt die Band aus Mörfelden wo immer sie auftritt für unterhaltsame Abende und hat sich einen guten Namen in der Musikszene gemacht. Zwei starke\, unverwechselbare Stimmen\, virtuose Gitarrensoli und ein dynamisches rhythmisches Fundament verbunden mit kreativem Songwriting und einer Menge Spielfreude sind das Rezept der Amazing Fools für ihren ganz eigenen Rocksound. Dabei bleiben Frank Schwappacher (Gesang\, Keyboard)\, Michael Baum (Gitarre\, Gesang)\, Marco Küchler (Schlagzeug) und Gerd Keim (Bass) stets die nette Band von nebenan\, die nicht auf die große Geste sondern vielmehr auf die Liebe zur Musik setzt. \nElectric Gun\nElectric Gun besteht aus den beiden Vollblut Musikern:Alexander Atzeni: Gitarre / GesangRich Schmitt: Schlagzeug / Percussion. \nIhre musikalischen Wege kreuzten sich im Laufe der Jahrzehnte immer wieder\, auch 2014. Seitdem haben sie sich musikalisch dazu entschlossen ihren eigenen Weg zu gehen. \nAll dies ist in ihren Songs zu hören.Das neue Album mit 13 original Tracks wurde im November 2023 veröffentlicht. \nPretty Weird\nWeißt du was weird ist?Wenn irgendwo im Satz plötzlich ein Anglizismus auftaucht\, das ist zum Beispiel weird.Oder wenn du das Gefühl hast\, etwas Neues zu erleben\, das dir aber trotzdem sehr vertraut vorkommt ist das… zunächst ein Deja Vu… aber auch irgendwie weird.Oder wenn vier Typen sich zusammentun und ihre verschiedenen (musikalischen) Geschmäcker und Hintergründe zusammenwerfen… dann kann auch das\, was dabei raus kommt ganz schön weird sein.Weird ist grundsätzlich erstmal persönliche Empfindungs- und Anssichtssache… aber pretty weird\, das ist eine Band.Und die hat sich “punkrock extra ordinary” auf den Beipackzettel geschrieben. Also irgendwas mit Gitarre\, Schlagzeug\, Bass und der grundsätzlichen “Mach-was-du-willst”-Attitüde.Kannste dir nix drunter vorstellen? Dann solltest du es dir erst Recht mal anhören!Entscheide du\, ob’s eher “ganz besonders” oder “besonders gewöhnlich ist”. Spaß machts auf jeden Fall. Versprochen.Ein bisschen langsam. Ein bisschen schnell. Ein bisschen hart. Ein bisschen weich. Ein bisschen Pop. Ein bisschen Hardcore.pretty weird eben.
URL:https://jukuz-event-ag.de/event/moerfelden-rockt-2025/
LOCATION:JuKuZ Mörfelden\, Am Bahndamm 12\, Mörfelden-Walldorf\, 64546\, Germany
CATEGORIES:Konzert,Veranstaltung
ATTACH;FMTTYPE=image/webp:https://jukuz-event-ag.de/wp-content/uploads/2025/10/2026_02_28_Moerfelden_Rockt_800.webp
END:VEVENT
BEGIN:VEVENT
DTSTART;TZID=Europe/Berlin:20251224T220000
DTEND;TZID=Europe/Berlin:20251225T023000
DTSTAMP:20260420T063027
CREATED:20251202T190715Z
LAST-MODIFIED:20251202T192655Z
UID:106-1766613600-1766629800@jukuz-event-ag.de
SUMMARY:Heiligabendparty @ KuBa
DESCRIPTION:Event AG & Friends schmeißen auch dieses Jahr wieder die Heiligabend Öffnung bei unseren Freudnen im KuBa Mörfelden. \n\n\n\n\n\n\n\nGarantiert frei von Tannenbaum und Adventskranz bietet der KulturBahnhof allen Unterschlupf\, die genug haben von Gänsebraten\, Geschenkebergen und Blockflöte spielender Verwandtschaft. Geboten wird der bewährte Mix aus Cocktails und Stromgitarre.
URL:https://jukuz-event-ag.de/event/heiligabendparty-kuba/
LOCATION:KuBA – Kulturbahnhof Mörfelden\, Bahnhofstraße 38\, Mörfelden – Walldorf\, 64546\, Germany
CATEGORIES:Außer Haus,Veranstaltung
END:VEVENT
BEGIN:VEVENT
DTSTART;TZID=Europe/Berlin:20251116T170000
DTEND;TZID=Europe/Berlin:20251116T210000
DTSTAMP:20260420T063027
CREATED:20251009T222156Z
LAST-MODIFIED:20251202T191747Z
UID:96-1763312400-1763326800@jukuz-event-ag.de
SUMMARY:Der Hexer
DESCRIPTION:Die Schwester des Hexers\, Gwenda Milton\, wurde tot in der Themse gefunden. Nun gilt es für Inspektor Wembury und Chief Inspektor Bliss\, den Täter schneller zu finden als es dem Hexer gelingt. Da Gwendas Arbeitgeber\, der korrupte Anwalt und Straf-Verteidiger Maurice Masters\, in dringendem Verdacht steht\, nisten sich Bliss und Wembury bei ihm ein. Unterstützung bekommen sie von Dr. Lomond\, einem extra herbeigerufenen Polizeiarzt aus Paris. Mit dem Auftauchen von Cora Ann Milton\, der Verlobten des Hexers\, ist allen recht schnell klar\, dass der Hexer ganz in der Nähe sein muss. Doch da er ein Meister der Verwandlung ist\, gestaltet sich seine Enttarnung kompliziert…\n\n======\n\nDie Bühne MöWa e.V. ist zu Gast mit ihrem neuen Stück
URL:https://jukuz-event-ag.de/event/der-hexer_2025c/
LOCATION:JuKuZ Mörfelden\, Am Bahndamm 12\, Mörfelden-Walldorf\, 64546\, Germany
CATEGORIES:Theater
END:VEVENT
BEGIN:VEVENT
DTSTART;TZID=Europe/Berlin:20251115T193000
DTEND;TZID=Europe/Berlin:20251115T230000
DTSTAMP:20260420T063027
CREATED:20251009T222047Z
LAST-MODIFIED:20251009T222047Z
UID:94-1763235000-1763247600@jukuz-event-ag.de
SUMMARY:Der Hexer
DESCRIPTION:Die Schwester des Hexers\, Gwenda Milton\, wurde tot in der Themse gefunden. Nun gilt es für Inspektor Wembury und Chief Inspektor Bliss\, den Täter schneller zu finden als es dem Hexer gelingt. Da Gwendas Arbeitgeber\, der korrupte Anwalt und Straf-Verteidiger Maurice Masters\, in dringendem Verdacht steht\, nisten sich Bliss und Wembury bei ihm ein. Unterstützung bekommen sie von Dr. Lomond\, einem extra herbeigerufenen Polizeiarzt aus Paris. Mit dem Auftauchen von Cora Ann Milton\, der Verlobten des Hexers\, ist allen recht schnell klar\, dass der Hexer ganz in der Nähe sein muss. Doch da er ein Meister der Verwandlung ist\, gestaltet sich seine Enttarnung kompliziert… \n====== \nDie Bühne MöWa e.V. ist zu Gast mit ihrem neuen Stück
URL:https://jukuz-event-ag.de/event/der-hexer_2025b/
LOCATION:JuKuZ Mörfelden\, Am Bahndamm 12\, Mörfelden-Walldorf\, 64546\, Germany
CATEGORIES:Theater
END:VEVENT
BEGIN:VEVENT
DTSTART;TZID=Europe/Berlin:20251114T193000
DTEND;TZID=Europe/Berlin:20251114T230000
DTSTAMP:20260420T063027
CREATED:20251009T221941Z
LAST-MODIFIED:20251202T192145Z
UID:92-1763148600-1763161200@jukuz-event-ag.de
SUMMARY:Der Hexer
DESCRIPTION:Die Schwester des Hexers\, Gwenda Milton\, wurde tot in der Themse gefunden. Nun gilt es für Inspektor Wembury und Chief Inspektor Bliss\, den Täter schneller zu finden als es dem Hexer gelingt. Da Gwendas Arbeitgeber\, der korrupte Anwalt und Straf-Verteidiger Maurice Masters\, in dringendem Verdacht steht\, nisten sich Bliss und Wembury bei ihm ein. Unterstützung bekommen sie von Dr. Lomond\, einem extra herbeigerufenen Polizeiarzt aus Paris. Mit dem Auftauchen von Cora Ann Milton\, der Verlobten des Hexers\, ist allen recht schnell klar\, dass der Hexer ganz in der Nähe sein muss. Doch da er ein Meister der Verwandlung ist\, gestaltet sich seine Enttarnung kompliziert…\n\n======\n\nDie Bühne MöWa e.V. ist zu Gast mit ihrem neuen Stück
URL:https://jukuz-event-ag.de/event/der-hexer_2025a/
LOCATION:JuKuZ Mörfelden\, Am Bahndamm 12\, Mörfelden-Walldorf\, 64546\, Germany
CATEGORIES:Theater
END:VEVENT
BEGIN:VEVENT
DTSTART;TZID=Europe/Berlin:20251108T203000
DTEND;TZID=Europe/Berlin:20251108T235900
DTSTAMP:20260420T063027
CREATED:20251009T221103Z
LAST-MODIFIED:20251009T222536Z
UID:85-1762633800-1762646340@jukuz-event-ag.de
SUMMARY:JuKuZ Konzert - The Jukes & Queen Ann‘s Revenge
DESCRIPTION:Unsere Freunde von The Jukes rocken am 08.11.2025 bei uns die Hütte! Mit dabei sind Queen Ann‘s Revenge welche schon bei Rock am Bahndamm 2024 gezeigt haben was in ihnen steckt.  \n\n \nThe Jukes \nThe Jukes sind eine Alternative Rock Band aus Deutschland und verbinden Funk\, Blues\, Rock\, Reggea\, Jazz\, vielleicht auch Folk und Singer-Songwriter in ihrem einzigartigen\, soliden Sound. \nIhre energiegeladene Live-Performance wird nicht nur auf den großen Bühnen zur Geltung gebracht\, sondern kann sich auch in kleinen Locations mit akustischen Instrumenten sehen und hören lassen. Seit 2012 haben sich The Jukes bis heute über 150 Konzerte in Clubs und auf Festivals gespielt und mittlerweile ihr zweites Album „Call Me What You Want“ veröffentlicht. \nSie überzeugen nicht nur mit ihrer musikalischen Vielfalt und einzigartigen Bühnenpräsenz\, sondern auch durch eine geschmeidige Prise Humor und halten somit einige Überraschungen bereit. Unter anderem dadurch heben sich The Jukes von der breiten Masse ab und sind erfrischend anders. \nQueen Ann‘s Revenge \nAdrenalinreicher Hard-Rock\, grooviger Classic Rock und gefühlvoller Blues – all das verbindet die Band Queen Ann´s Revenge zu einem unverwechselbaren Sound voller Wiedererkennungswert\, der sowohl vertraut als auch erfrischend neu ist. \nTreibende Beats\, ein schwingender Bass und beides gepaart mit energetischen und melodischen Gitarren-Soli – ungeachtet jeglicher musikalischer Trends spielen QAR direkt aus dem Herzen und ziehen damit das Publikum in ihren Bann. \nIm Frühjahr 202 haben Queen Ann´s Revenge ihr Debüt Album „Crooked Saint“ bei Benedikt Sturm in Speyer veröffentlicht. Inspiriert von den legendären Rockbands der vergangenen Jahrzehnte\, liefert dieses Album eine explosive Kombination aus Energie und Melodie\, die alle Rockliebhaber begeistern wird.
URL:https://jukuz-event-ag.de/event/jukuz-konzert-the-jukes-queen-anns-revenge/
LOCATION:JuKuZ Mörfelden\, Am Bahndamm 12\, Mörfelden-Walldorf\, 64546\, Germany
CATEGORIES:Konzert,Veranstaltung
END:VEVENT
BEGIN:VEVENT
DTSTART;TZID=Europe/Berlin:20250614T163000
DTEND;TZID=Europe/Berlin:20250614T235900
DTSTAMP:20260420T063027
CREATED:20250204T121526Z
LAST-MODIFIED:20250204T121526Z
UID:42-1749918600-1749945540@jukuz-event-ag.de
SUMMARY:Rock am Bahndamm 2025
DESCRIPTION:Save the Date!
URL:https://jukuz-event-ag.de/event/rock-am-bahndamm-2025/
LOCATION:JuKuZ Mörfelden\, Am Bahndamm 12\, Mörfelden-Walldorf\, 64546\, Germany
CATEGORIES:Konzert
END:VEVENT
BEGIN:VEVENT
DTSTART;TZID=Europe/Berlin:20250525T103000
DTEND;TZID=Europe/Berlin:20250525T140000
DTSTAMP:20260420T063027
CREATED:20250204T122719Z
LAST-MODIFIED:20250204T183922Z
UID:50-1748169000-1748181600@jukuz-event-ag.de
SUMMARY:Seifenkistenrennen
DESCRIPTION:Die Jugendförderung Mörfelden-Walldorf veranstaltet auch 2025 wieder ein Seifenkistenrennen. Ein Event für die ganze Familie mit Essen \, Trinken\, Musik und Rennfieber. Start ist am Bahnhof Mörfelden. \nSeifenkistenbegeisterte und solche die es noch werden wollen\, sind herzlich zum sechsten Seifenkistenrennen der Stadt eingeladen. Natürlich gibt es auch wieder das Bobby Car Rennen für die Kleinsten und auch das Mülltonnenrennen wird wieder stattfinden.
URL:https://jukuz-event-ag.de/event/seifenkistenrennen/
LOCATION:Bahnhof Mörfelden\, Bahnhofstraße\, Mörfelden-Walldorf\, 64546\, Germany
CATEGORIES:Außer Haus,Veranstaltung
END:VEVENT
BEGIN:VEVENT
DTSTART;TZID=Europe/Berlin:20250316T150000
DTEND;TZID=Europe/Berlin:20250316T180000
DTSTAMP:20260420T063027
CREATED:20250204T120156Z
LAST-MODIFIED:20260204T211743Z
UID:36-1742137200-1742148000@jukuz-event-ag.de
SUMMARY:Musiker-Flohmarkt
DESCRIPTION:Die Event AG des JuKuZ Mörfelden lädt nun erneut zum Musiker-Flohmarkt ein.\n\nWir möchten euch viel mehr die Möglichkeit bieten\, in eurem Proberaum und / oder eurem Studio wieder etwas Platz zu schaffen und das ein oder andere Stück zu veräußern.\nOder um noch mehr zu sammeln?\nWas hat sich alles in den letzten Jahren und Jahrzehnten angesammelt? Und muss jetzt weg?\n\nAngeboten werden kann alles\, was der Musiker zum Musizieren benötigt. Dazu zählen alle Arten an Musikinstrumenten (bspw. Gitarren\, Keyboards\, Schlagzeuge und Zubehör\, Geigen\, Flöten etc.) sowie Verstärker\, Boxen\, Combos\, PA’s\, Lichtanlagen und –effekte\, Bodentreter\, 19“-Geräte und was man sich sonst so alles vorstellen kann.\nWas gibt es nicht?\n\nTonträger sollen nicht zum Verkauf angeboten werden.\nUnd ganz wichtig:\nMusiker selbst dürfen nicht veräußert werden 🙂\nUnd sonst?\n\nWir werden schauen\, dass es noch einen kleinen Kaffee- & Kuchenverkauf gibt.\nWer also nur zum Schauen und Flanieren vorbeikommen\, oder in der Sitzecke ein gemütliches Schwätzchen halten möchte\, ist uns ebenso herzlich willkommen.\n\nStand-Anmeldung und weitere Informationen gibt es demnächst hier: https://flohmarkt.jukuz-event-ag.de
URL:https://jukuz-event-ag.de/event/musiker-flohmarkt/
LOCATION:JuKuZ Mörfelden\, Am Bahndamm 12\, Mörfelden-Walldorf\, 64546\, Germany
CATEGORIES:Veranstaltung
END:VEVENT
BEGIN:VEVENT
DTSTART;TZID=Europe/Berlin:20250222T203000
DTEND;TZID=Europe/Berlin:20250222T235900
DTSTAMP:20260420T063027
CREATED:20250204T121340Z
LAST-MODIFIED:20250204T121340Z
UID:40-1740256200-1740268740@jukuz-event-ag.de
SUMMARY:JuKuZ Konzert - EGOVIEW & ELMDITIONED
DESCRIPTION:Am Samstag\, 22. Februar 2025 gibt es wieder Rockmusik vom Feinsten auf der Bühne des Jugend- und Kulturzentrums Mörfelden. Von Altbekannt bis (für uns) „Neu“!\nDiesmal präsentieren sich: \nEGOVIEW \n„Die Musiker aus Hessen sind eigentlich viel zu unterschiedlich in ihrer musikalischen Gesinnung. Bestimmt war es genau deswegen eine gute Idee\, 2003 die Band Egoview zu gründen. Weil da zusammenwächst\, was ohrenkundig bestens zusammen klingt. \nEingängige Melodien und kompakte Grooves fließen mit dem ausdrucksstarken Gesang zu einem Strom zusammen\, der mitreißen kann und doch nie den Halt verliert. Egoview schreiben ihre Songs übrigens selbst\,- aus dem Bauch heraus. Hart soll es sein\, aber immer so\, dass man es auch mit summen mag. Egoviews Bandsound bewegt sich irgendwo zwischen Metal\, Punk\, Rock und Pop. Es wird viel Wert darauf gelegt\, groovige Riffs mit eingängigen Melodien zu kombinieren. \nSeit 2004 stehen sie auf der Bühne und das Publikum findet es gut – gerade weil die Musiker von Egoview so unterschiedliche Stile und Impulse einbringen. \nLasst Euch überraschen\, denn Egoview bleibt immer anders und immer wieder neu!“ \nELMDITIONED \n„Im Frühjahr 2001 gründeten die Mörfelden-Walldorfer Musiker Bernhard Funck\, Christian Marx\, Christian Reschke und Stefan Kolb die Heavy-Rock-Band ELMDITIONED. Um den Ursprung der Band zu verdeutlichen\, wählten die Vier den Namen ELMDITIONED\, ein Kunstwort\, entstanden aus den Namen ihrer vorherigen Bands: \n„ELM“ STREET + SE“DITION“ + SURROUND“ED“ = ELMDITIONED\n(Gesprochen „elmdischnd“) \nDie Songs von ELMDITIONED Überzeugen durch melodiöse Gesangslinien und schwere Gitarrenriffs\, die sich mit zweistimmigen\, melodischen Parts abwechseln und durch eine dynamische\, treibenende Rhythmussektion unterstützt werden. Das Repertoire reicht dabei von balladesken bis hin zu kompromisslosen Stücken. \nIm Herbst 2011 ist der neue Longplayer „Unstoppable“ erschienen.
URL:https://jukuz-event-ag.de/event/jukuz-konzert-egoview-elmditioned/
LOCATION:JuKuZ Mörfelden\, Am Bahndamm 12\, Mörfelden-Walldorf\, 64546\, Germany
CATEGORIES:Konzert
END:VEVENT
END:VCALENDAR